BEGIN:VCALENDAR
VERSION:2.0
PRODID:-//Twelve Oaks - ECPv6.15.13//NONSGML v1.0//EN
CALSCALE:GREGORIAN
METHOD:PUBLISH
X-WR-CALNAME:Twelve Oaks
X-ORIGINAL-URL:https://www.twelveoakshoa.com
X-WR-CALDESC:Events for Twelve Oaks
REFRESH-INTERVAL;VALUE=DURATION:PT1H
X-Robots-Tag:noindex
X-PUBLISHED-TTL:PT1H
BEGIN:VTIMEZONE
TZID:America/Chicago
BEGIN:DAYLIGHT
TZOFFSETFROM:-0600
TZOFFSETTO:-0500
TZNAME:CDT
DTSTART:20240310T080000
END:DAYLIGHT
BEGIN:STANDARD
TZOFFSETFROM:-0500
TZOFFSETTO:-0600
TZNAME:CST
DTSTART:20241103T070000
END:STANDARD
BEGIN:DAYLIGHT
TZOFFSETFROM:-0600
TZOFFSETTO:-0500
TZNAME:CDT
DTSTART:20250309T080000
END:DAYLIGHT
BEGIN:STANDARD
TZOFFSETFROM:-0500
TZOFFSETTO:-0600
TZNAME:CST
DTSTART:20251102T070000
END:STANDARD
BEGIN:DAYLIGHT
TZOFFSETFROM:-0600
TZOFFSETTO:-0500
TZNAME:CDT
DTSTART:20260308T080000
END:DAYLIGHT
BEGIN:STANDARD
TZOFFSETFROM:-0500
TZOFFSETTO:-0600
TZNAME:CST
DTSTART:20261101T070000
END:STANDARD
END:VTIMEZONE
BEGIN:VEVENT
DTSTART;TZID=America/Chicago:20251206T170000
DTEND;TZID=America/Chicago:20251206T200000
DTSTAMP:20260423T135854
CREATED:20251008T214420Z
LAST-MODIFIED:20251028T172627Z
UID:7222-1765040400-1765051200@www.twelveoakshoa.com
SUMMARY:Nipster Clubhouse Reservation
DESCRIPTION:
URL:https://www.twelveoakshoa.com/event/nippster-clubhouse-reservation/
LOCATION:Club House
END:VEVENT
BEGIN:VEVENT
DTSTART;TZID=America/Chicago:20251206T110000
DTEND;TZID=America/Chicago:20251206T150000
DTSTAMP:20260423T135854
CREATED:20251113T194111Z
LAST-MODIFIED:20251113T194111Z
UID:7238-1765018800-1765033200@www.twelveoakshoa.com
SUMMARY:McCarthy Clubhouse Reservation
DESCRIPTION:
URL:https://www.twelveoakshoa.com/event/mccarthy-clubhouse-reservation-2/
LOCATION:Club House
END:VEVENT
BEGIN:VEVENT
DTSTART;TZID=America/Chicago:20251205T180000
DTEND;TZID=America/Chicago:20251205T220000
DTSTAMP:20260423T135854
CREATED:20251126T160514Z
LAST-MODIFIED:20251126T160514Z
UID:7262-1764957600-1764972000@www.twelveoakshoa.com
SUMMARY:Arboiro Clubhouse Resevration
DESCRIPTION:
URL:https://www.twelveoakshoa.com/event/arboiro-clubhouse-resevration/
END:VEVENT
BEGIN:VEVENT
DTSTART;TZID=America/Chicago:20251115T150000
DTEND;TZID=America/Chicago:20251115T180000
DTSTAMP:20260423T135854
CREATED:20251113T194204Z
LAST-MODIFIED:20251113T194204Z
UID:7240-1763218800-1763229600@www.twelveoakshoa.com
SUMMARY:Vutukuri Clubhouse Reservation
DESCRIPTION:
URL:https://www.twelveoakshoa.com/event/vutukuri-clubhouse-reservation/
LOCATION:Club House
END:VEVENT
BEGIN:VEVENT
DTSTART;TZID=America/Chicago:20251113T180000
DTEND;TZID=America/Chicago:20251113T200000
DTSTAMP:20260423T135854
CREATED:20250127T164100Z
LAST-MODIFIED:20250127T164323Z
UID:7021-1763056800-1763064000@www.twelveoakshoa.com
SUMMARY:12 Oaks Mahjong
DESCRIPTION:
URL:https://www.twelveoakshoa.com/event/12-oaks-mahjong-18/
LOCATION:Club House
END:VEVENT
BEGIN:VEVENT
DTSTART;TZID=America/Chicago:20251101T170000
DTEND;TZID=America/Chicago:20251101T190000
DTSTAMP:20260423T135854
CREATED:20251008T212322Z
LAST-MODIFIED:20251015T144239Z
UID:7220-1762016400-1762023600@www.twelveoakshoa.com
SUMMARY:Mayfield Clubhouse Rental
DESCRIPTION:
URL:https://www.twelveoakshoa.com/event/mayfield-clubhouse-rental/
LOCATION:Club House
END:VEVENT
BEGIN:VEVENT
DTSTART;VALUE=DATE:20251031
DTEND;VALUE=DATE:20251101
DTSTAMP:20260423T135854
CREATED:20250319T171048Z
LAST-MODIFIED:20250319T171048Z
UID:7071-1761868800-1761955199@www.twelveoakshoa.com
SUMMARY:Clubhouse Unavailable For Rental
DESCRIPTION:
URL:https://www.twelveoakshoa.com/event/clubhouse-unavailable-for-rental-4/
LOCATION:Club House
END:VEVENT
BEGIN:VEVENT
DTSTART;TZID=America/Chicago:20251027T183000
DTEND;TZID=America/Chicago:20251027T193000
DTSTAMP:20260423T135854
CREATED:20251017T140405Z
LAST-MODIFIED:20251017T140405Z
UID:7229-1761589800-1761593400@www.twelveoakshoa.com
SUMMARY:HOA Board meeting
DESCRIPTION:
URL:https://www.twelveoakshoa.com/event/hoa-board-meeting/
LOCATION:Club House
END:VEVENT
BEGIN:VEVENT
DTSTART;TZID=America/Chicago:20251026T120000
DTEND;TZID=America/Chicago:20251026T150000
DTSTAMP:20260423T135854
CREATED:20250822T150027Z
LAST-MODIFIED:20250822T150027Z
UID:7198-1761480000-1761490800@www.twelveoakshoa.com
SUMMARY:Wheeler Clubhouse Reservation
DESCRIPTION:
URL:https://www.twelveoakshoa.com/event/wheeler-clubhouse-reservation/
LOCATION:Club House
END:VEVENT
BEGIN:VEVENT
DTSTART;TZID=America/Chicago:20251023T180000
DTEND;TZID=America/Chicago:20251023T200000
DTSTAMP:20260423T135854
CREATED:20251017T140621Z
LAST-MODIFIED:20251017T140621Z
UID:7231-1761242400-1761249600@www.twelveoakshoa.com
SUMMARY:Jenkins Clubhouse Reservation
DESCRIPTION:
URL:https://www.twelveoakshoa.com/event/jenkins-clubhouse-reservation/
LOCATION:Club House
END:VEVENT
BEGIN:VEVENT
DTSTART;TZID=America/Chicago:20251022T110000
DTEND;TZID=America/Chicago:20251022T130000
DTSTAMP:20260423T135854
CREATED:20251017T140322Z
LAST-MODIFIED:20251017T140322Z
UID:7227-1761130800-1761138000@www.twelveoakshoa.com
SUMMARY:Bonillas -SPD
DESCRIPTION:
URL:https://www.twelveoakshoa.com/event/bonillas-spd/
LOCATION:Club House
END:VEVENT
BEGIN:VEVENT
DTSTART;TZID=America/Chicago:20251017T180000
DTEND;TZID=America/Chicago:20251017T200000
DTSTAMP:20260423T135854
CREATED:20250822T150128Z
LAST-MODIFIED:20250829T164846Z
UID:7200-1760724000-1760731200@www.twelveoakshoa.com
SUMMARY:Alison "CC" Mayfield Clubhouse Reservation
DESCRIPTION:
URL:https://www.twelveoakshoa.com/event/sepulvado-pergola-party/
LOCATION:Club House
END:VEVENT
BEGIN:VEVENT
DTSTART;TZID=America/Chicago:20251004T130000
DTEND;TZID=America/Chicago:20251004T170000
DTSTAMP:20260423T135854
CREATED:20250902T185257Z
LAST-MODIFIED:20250902T185257Z
UID:7212-1759582800-1759597200@www.twelveoakshoa.com
SUMMARY:Hutchinson Clubhouse
DESCRIPTION:
URL:https://www.twelveoakshoa.com/event/hutchinson-clubhouse/
LOCATION:Club House
END:VEVENT
BEGIN:VEVENT
DTSTART;TZID=America/Chicago:20250927T180000
DTEND;TZID=America/Chicago:20250927T210000
DTSTAMP:20260423T135854
CREATED:20250904T180750Z
LAST-MODIFIED:20250904T180750Z
UID:7215-1758996000-1759006800@www.twelveoakshoa.com
SUMMARY:Spence Clubhouse Reservation
DESCRIPTION:
URL:https://www.twelveoakshoa.com/event/spence-clubhouse-reservation/
LOCATION:Club House
END:VEVENT
BEGIN:VEVENT
DTSTART;TZID=America/Chicago:20250920T110000
DTEND;TZID=America/Chicago:20250920T130000
DTSTAMP:20260423T135854
CREATED:20250627T163937Z
LAST-MODIFIED:20250627T163937Z
UID:7156-1758366000-1758373200@www.twelveoakshoa.com
SUMMARY:Morgan Clubhouse Reservation
DESCRIPTION:
URL:https://www.twelveoakshoa.com/event/morgan-clubhouse-reservation/
LOCATION:Club House
END:VEVENT
BEGIN:VEVENT
DTSTART;TZID=America/Chicago:20250918T180000
DTEND;TZID=America/Chicago:20250918T200000
DTSTAMP:20260423T135854
CREATED:20250814T152604Z
LAST-MODIFIED:20250814T152604Z
UID:7192-1758218400-1758225600@www.twelveoakshoa.com
SUMMARY:Darwin Clubhouse Reservation
DESCRIPTION:
URL:https://www.twelveoakshoa.com/event/darwin-clubhouse-reservation/
LOCATION:Club House
END:VEVENT
BEGIN:VEVENT
DTSTART;TZID=America/Chicago:20250916T170000
DTEND;TZID=America/Chicago:20250916T200000
DTSTAMP:20260423T135854
CREATED:20250902T185059Z
LAST-MODIFIED:20250902T185059Z
UID:7208-1758042000-1758052800@www.twelveoakshoa.com
SUMMARY:Addison Clubhouse
DESCRIPTION:
URL:https://www.twelveoakshoa.com/event/addison-clubhouse/
END:VEVENT
BEGIN:VEVENT
DTSTART;TZID=America/Chicago:20250907T130000
DTEND;TZID=America/Chicago:20250907T143000
DTSTAMP:20260423T135854
CREATED:20250902T185000Z
LAST-MODIFIED:20250902T185000Z
UID:7206-1757250000-1757255400@www.twelveoakshoa.com
SUMMARY:Bonillas
DESCRIPTION:
URL:https://www.twelveoakshoa.com/event/bonillas/
LOCATION:Clubhouse & Pool
END:VEVENT
BEGIN:VEVENT
DTSTART;TZID=America/Chicago:20250829T080000
DTEND;TZID=America/Chicago:20250901T170000
DTSTAMP:20260423T135854
CREATED:20250319T170841Z
LAST-MODIFIED:20250319T170841Z
UID:7069-1756454400-1756746000@www.twelveoakshoa.com
SUMMARY:Clubhouse Unavailable For Rental
DESCRIPTION:
URL:https://www.twelveoakshoa.com/event/clubhouse-unavailable-for-rental-3/
LOCATION:Club House
END:VEVENT
BEGIN:VEVENT
DTSTART;TZID=America/Chicago:20250825T173000
DTEND;TZID=America/Chicago:20250825T213000
DTSTAMP:20260423T135854
CREATED:20250820T022557Z
LAST-MODIFIED:20250820T022557Z
UID:7195-1756143000-1756157400@www.twelveoakshoa.com
SUMMARY:Hawkins Clubhouse and pool
DESCRIPTION:
URL:https://www.twelveoakshoa.com/event/hawkins-clubhouse-and-pool/
LOCATION:Clubhouse & Pool
END:VEVENT
BEGIN:VEVENT
DTSTART;TZID=America/Chicago:20250824T150000
DTEND;TZID=America/Chicago:20250824T170000
DTSTAMP:20260423T135854
CREATED:20250814T152501Z
LAST-MODIFIED:20250814T152501Z
UID:7190-1756047600-1756054800@www.twelveoakshoa.com
SUMMARY:Price Pergola Party
DESCRIPTION:
URL:https://www.twelveoakshoa.com/event/price-pergola-party/
LOCATION:Pergola Party\, Pool Side Pergola
END:VEVENT
BEGIN:VEVENT
DTSTART;TZID=America/Chicago:20250822T170000
DTEND;TZID=America/Chicago:20250822T190000
DTSTAMP:20260423T135854
CREATED:20250805T171919Z
LAST-MODIFIED:20250805T171919Z
UID:7187-1755882000-1755889200@www.twelveoakshoa.com
SUMMARY:Chapman pool party
DESCRIPTION:
URL:https://www.twelveoakshoa.com/event/chapman-pool-party/
END:VEVENT
BEGIN:VEVENT
DTSTART;TZID=America/Chicago:20250818T173000
DTEND;TZID=America/Chicago:20250818T193000
DTSTAMP:20260423T135854
CREATED:20250722T231858Z
LAST-MODIFIED:20250722T231858Z
UID:7176-1755538200-1755545400@www.twelveoakshoa.com
SUMMARY:Boswell Clubhouse and pool
DESCRIPTION:
URL:https://www.twelveoakshoa.com/event/boswell-clubhouse-and-pool/
LOCATION:Clubhouse & Pool
END:VEVENT
BEGIN:VEVENT
DTSTART;TZID=America/Chicago:20250816T140000
DTEND;TZID=America/Chicago:20250816T160000
DTSTAMP:20260423T135854
CREATED:20250718T164039Z
LAST-MODIFIED:20250718T164039Z
UID:7171-1755352800-1755360000@www.twelveoakshoa.com
SUMMARY:Todd Clubhouse reservation
DESCRIPTION:
URL:https://www.twelveoakshoa.com/event/todd-clubhouse-reservation/
LOCATION:Club House
END:VEVENT
BEGIN:VEVENT
DTSTART;TZID=America/Chicago:20250814T180000
DTEND;TZID=America/Chicago:20250814T200000
DTSTAMP:20260423T135854
CREATED:20250127T163810Z
LAST-MODIFIED:20250127T163835Z
UID:7015-1755194400-1755201600@www.twelveoakshoa.com
SUMMARY:12 Oaks Mahjong
DESCRIPTION:
URL:https://www.twelveoakshoa.com/event/12-oaks-mahjong-15/
LOCATION:Club House
END:VEVENT
BEGIN:VEVENT
DTSTART;TZID=America/Chicago:20250811T170000
DTEND;TZID=America/Chicago:20250811T200000
DTSTAMP:20260423T135854
CREATED:20250520T191202Z
LAST-MODIFIED:20250520T191202Z
UID:7121-1754931600-1754942400@www.twelveoakshoa.com
SUMMARY:Karam pool and clubhouse
DESCRIPTION:
URL:https://www.twelveoakshoa.com/event/karam-pool-and-clubhouse/
LOCATION:Clubhouse & Pool
END:VEVENT
BEGIN:VEVENT
DTSTART;TZID=America/Chicago:20250806T180000
DTEND;TZID=America/Chicago:20250806T200000
DTSTAMP:20260423T135854
CREATED:20250730T185542Z
LAST-MODIFIED:20250730T185602Z
UID:7184-1754503200-1754510400@www.twelveoakshoa.com
SUMMARY:Shepherd Clubhouse and pool  Reservation
DESCRIPTION:
URL:https://www.twelveoakshoa.com/event/shepherd-clubhouse-and-pool-reservation/
LOCATION:Clubhouse & Pool
END:VEVENT
BEGIN:VEVENT
DTSTART;TZID=America/Chicago:20250804T180000
DTEND;TZID=America/Chicago:20250804T203000
DTSTAMP:20260423T135854
CREATED:20250702T143700Z
LAST-MODIFIED:20250702T143700Z
UID:7158-1754330400-1754339400@www.twelveoakshoa.com
SUMMARY:Rickert Pool and Clubhouse
DESCRIPTION:
URL:https://www.twelveoakshoa.com/event/rickert-pool-and-clubhouse/
LOCATION:Clubhouse & Pool
END:VEVENT
BEGIN:VEVENT
DTSTART;TZID=America/Chicago:20250804T140000
DTEND;TZID=America/Chicago:20250804T160000
DTSTAMP:20260423T135854
CREATED:20250711T143555Z
LAST-MODIFIED:20250711T143555Z
UID:7163-1754316000-1754323200@www.twelveoakshoa.com
SUMMARY:12 Oaks employees
DESCRIPTION:
URL:https://www.twelveoakshoa.com/event/12-oaks-employees/
LOCATION:Clubhouse & Pool
END:VEVENT
BEGIN:VEVENT
DTSTART;TZID=America/Chicago:20250803T130000
DTEND;TZID=America/Chicago:20250803T150000
DTSTAMP:20260423T135854
CREATED:20250718T161900Z
LAST-MODIFIED:20250718T161900Z
UID:7167-1754226000-1754233200@www.twelveoakshoa.com
SUMMARY:Lara Clubhouse Reservation
DESCRIPTION:
URL:https://www.twelveoakshoa.com/event/lara-clubhouse-reservation/
LOCATION:Clubhouse & Pool
END:VEVENT
END:VCALENDAR