BEGIN:VCALENDAR
VERSION:2.0
PRODID:-//Twelve Oaks - ECPv6.15.13//NONSGML v1.0//EN
CALSCALE:GREGORIAN
METHOD:PUBLISH
X-WR-CALNAME:Twelve Oaks
X-ORIGINAL-URL:https://www.twelveoakshoa.com
X-WR-CALDESC:Events for Twelve Oaks
REFRESH-INTERVAL;VALUE=DURATION:PT1H
X-Robots-Tag:noindex
X-PUBLISHED-TTL:PT1H
BEGIN:VTIMEZONE
TZID:America/Chicago
BEGIN:DAYLIGHT
TZOFFSETFROM:-0600
TZOFFSETTO:-0500
TZNAME:CDT
DTSTART:20240310T080000
END:DAYLIGHT
BEGIN:STANDARD
TZOFFSETFROM:-0500
TZOFFSETTO:-0600
TZNAME:CST
DTSTART:20241103T070000
END:STANDARD
BEGIN:DAYLIGHT
TZOFFSETFROM:-0600
TZOFFSETTO:-0500
TZNAME:CDT
DTSTART:20250309T080000
END:DAYLIGHT
BEGIN:STANDARD
TZOFFSETFROM:-0500
TZOFFSETTO:-0600
TZNAME:CST
DTSTART:20251102T070000
END:STANDARD
BEGIN:DAYLIGHT
TZOFFSETFROM:-0600
TZOFFSETTO:-0500
TZNAME:CDT
DTSTART:20260308T080000
END:DAYLIGHT
BEGIN:STANDARD
TZOFFSETFROM:-0500
TZOFFSETTO:-0600
TZNAME:CST
DTSTART:20261101T070000
END:STANDARD
END:VTIMEZONE
BEGIN:VEVENT
DTSTART;TZID=America/Chicago:20250519T170000
DTEND;TZID=America/Chicago:20250519T200000
DTSTAMP:20260424T022900
CREATED:20250424T193749Z
LAST-MODIFIED:20250424T193749Z
UID:7094-1747674000-1747684800@www.twelveoakshoa.com
SUMMARY:Palmer Clubhouse Reservation
DESCRIPTION:
URL:https://www.twelveoakshoa.com/event/palmer-clubhouse-reservation/
LOCATION:Club House
END:VEVENT
BEGIN:VEVENT
DTSTART;TZID=America/Chicago:20250518T140000
DTEND;TZID=America/Chicago:20250518T170000
DTSTAMP:20260424T022900
CREATED:20250409T162241Z
LAST-MODIFIED:20250409T162241Z
UID:7081-1747576800-1747587600@www.twelveoakshoa.com
SUMMARY:Pope Clubhouse Reservation
DESCRIPTION:
URL:https://www.twelveoakshoa.com/event/pope-clubhouse-reservation-3/
LOCATION:Club House
END:VEVENT
BEGIN:VEVENT
DTSTART;TZID=America/Chicago:20250517T170000
DTEND;TZID=America/Chicago:20250517T200000
DTSTAMP:20260424T022900
CREATED:20250416T125855Z
LAST-MODIFIED:20250416T125855Z
UID:7086-1747501200-1747512000@www.twelveoakshoa.com
SUMMARY:Smith Clubhouse
DESCRIPTION:
URL:https://www.twelveoakshoa.com/event/smith-clubhouse/
LOCATION:Club House
END:VEVENT
BEGIN:VEVENT
DTSTART;TZID=America/Chicago:20250517T100000
DTEND;TZID=America/Chicago:20250517T130000
DTSTAMP:20260424T022900
CREATED:20250201T172455Z
LAST-MODIFIED:20250201T172455Z
UID:7028-1747476000-1747486800@www.twelveoakshoa.com
SUMMARY:McCollum / Gatschenberger Clubhouse Reservation
DESCRIPTION:
URL:https://www.twelveoakshoa.com/event/mccollum-gatschenberger-clubhouse-reservation/
LOCATION:Club House
END:VEVENT
BEGIN:VEVENT
DTSTART;TZID=America/Chicago:20250514T183000
DTEND;TZID=America/Chicago:20250514T213000
DTSTAMP:20260424T022900
CREATED:20250127T163041Z
LAST-MODIFIED:20250127T163041Z
UID:7001-1747247400-1747258200@www.twelveoakshoa.com
SUMMARY:Cook Clubhouse Reservation
DESCRIPTION:
URL:https://www.twelveoakshoa.com/event/cook-clubhouse-reservation/
LOCATION:Club House
END:VEVENT
BEGIN:VEVENT
DTSTART;TZID=America/Chicago:20250510T140000
DTEND;TZID=America/Chicago:20250510T160000
DTSTAMP:20260424T022900
CREATED:20250409T162331Z
LAST-MODIFIED:20250409T162331Z
UID:7083-1746885600-1746892800@www.twelveoakshoa.com
SUMMARY:McCarthy Clubhouse Reservation
DESCRIPTION:
URL:https://www.twelveoakshoa.com/event/mccarthy-clubhouse-reservation/
LOCATION:Club House
END:VEVENT
BEGIN:VEVENT
DTSTART;TZID=America/Chicago:20250508T180000
DTEND;TZID=America/Chicago:20250508T200000
DTSTAMP:20260424T022900
CREATED:20250127T163540Z
LAST-MODIFIED:20250127T163540Z
UID:7009-1746727200-1746734400@www.twelveoakshoa.com
SUMMARY:12 Oaks Mahjong
DESCRIPTION:
URL:https://www.twelveoakshoa.com/event/12-oaks-mahjong-12/
LOCATION:Club House
END:VEVENT
BEGIN:VEVENT
DTSTART;TZID=America/Chicago:20250506T180000
DTEND;TZID=America/Chicago:20250506T200000
DTSTAMP:20260424T022900
CREATED:20250401T151808Z
LAST-MODIFIED:20250401T151808Z
UID:7077-1746554400-1746561600@www.twelveoakshoa.com
SUMMARY:McCartney Clubhouse Reservation
DESCRIPTION:
URL:https://www.twelveoakshoa.com/event/mccartney-clubhouse-reservation-4/
LOCATION:Club House
END:VEVENT
BEGIN:VEVENT
DTSTART;TZID=America/Chicago:20250503T110000
DTEND;TZID=America/Chicago:20250503T160000
DTSTAMP:20260424T022900
CREATED:20250212T202724Z
LAST-MODIFIED:20250212T203845Z
UID:7035-1746270000-1746288000@www.twelveoakshoa.com
SUMMARY:Norton Clubhouse Reservation
DESCRIPTION:
URL:https://www.twelveoakshoa.com/event/norton-clubhouse-reservation/
LOCATION:Club House
END:VEVENT
END:VCALENDAR