BEGIN:VCALENDAR
VERSION:2.0
PRODID:-//Twelve Oaks - ECPv6.15.13//NONSGML v1.0//EN
CALSCALE:GREGORIAN
METHOD:PUBLISH
X-ORIGINAL-URL:https://www.twelveoakshoa.com
X-WR-CALDESC:Events for Twelve Oaks
REFRESH-INTERVAL;VALUE=DURATION:PT1H
X-Robots-Tag:noindex
X-PUBLISHED-TTL:PT1H
BEGIN:VTIMEZONE
TZID:America/Chicago
BEGIN:DAYLIGHT
TZOFFSETFROM:-0600
TZOFFSETTO:-0500
TZNAME:CDT
DTSTART:20240310T080000
END:DAYLIGHT
BEGIN:STANDARD
TZOFFSETFROM:-0500
TZOFFSETTO:-0600
TZNAME:CST
DTSTART:20241103T070000
END:STANDARD
BEGIN:DAYLIGHT
TZOFFSETFROM:-0600
TZOFFSETTO:-0500
TZNAME:CDT
DTSTART:20250309T080000
END:DAYLIGHT
BEGIN:STANDARD
TZOFFSETFROM:-0500
TZOFFSETTO:-0600
TZNAME:CST
DTSTART:20251102T070000
END:STANDARD
BEGIN:DAYLIGHT
TZOFFSETFROM:-0600
TZOFFSETTO:-0500
TZNAME:CDT
DTSTART:20260308T080000
END:DAYLIGHT
BEGIN:STANDARD
TZOFFSETFROM:-0500
TZOFFSETTO:-0600
TZNAME:CST
DTSTART:20261101T070000
END:STANDARD
END:VTIMEZONE
BEGIN:VEVENT
DTSTART;TZID=America/Chicago:20250710T180000
DTEND;TZID=America/Chicago:20250710T200000
DTSTAMP:20260423T183137
CREATED:20250127T163703Z
LAST-MODIFIED:20250127T163703Z
UID:7013-1752170400-1752177600@www.twelveoakshoa.com
SUMMARY:12 Oaks Mahjong
DESCRIPTION:
URL:https://www.twelveoakshoa.com/event/12-oaks-mahjong-14/
LOCATION:Club House
END:VEVENT
BEGIN:VEVENT
DTSTART;TZID=America/Chicago:20250707T140000
DTEND;TZID=America/Chicago:20250707T170000
DTSTAMP:20260423T183137
CREATED:20250520T191010Z
LAST-MODIFIED:20250520T191010Z
UID:7118-1751896800-1751907600@www.twelveoakshoa.com
SUMMARY:Pool Reservation  Ella
DESCRIPTION:
URL:https://www.twelveoakshoa.com/event/pool-reservation-ella/
END:VEVENT
BEGIN:VEVENT
DTSTART;VALUE=DATE:20250704
DTEND;VALUE=DATE:20250707
DTSTAMP:20260423T183137
CREATED:20250319T170750Z
LAST-MODIFIED:20250319T170750Z
UID:7067-1751587200-1751846399@www.twelveoakshoa.com
SUMMARY:Clubhouse Unavailable For Rental
DESCRIPTION:
URL:https://www.twelveoakshoa.com/event/clubhouse-unavailable-for-rental-2/
LOCATION:Club House
END:VEVENT
BEGIN:VEVENT
DTSTART;TZID=America/Chicago:20250630T180000
DTEND;TZID=America/Chicago:20250630T210000
DTSTAMP:20260423T183137
CREATED:20250627T163814Z
LAST-MODIFIED:20250627T163814Z
UID:7154-1751306400-1751317200@www.twelveoakshoa.com
SUMMARY:Garrett clubhouse and pool reservation
DESCRIPTION:
URL:https://www.twelveoakshoa.com/event/garrett-clubhouse-and-pool-reservation/
END:VEVENT
BEGIN:VEVENT
DTSTART;TZID=America/Chicago:20250628T140000
DTEND;TZID=America/Chicago:20250628T160000
DTSTAMP:20260423T183137
CREATED:20250627T163717Z
LAST-MODIFIED:20250627T163717Z
UID:7152-1751119200-1751126400@www.twelveoakshoa.com
SUMMARY:Roark Pergola party
DESCRIPTION:
URL:https://www.twelveoakshoa.com/event/roark-pergola-party/
LOCATION:Clubhouse & Pool
END:VEVENT
BEGIN:VEVENT
DTSTART;TZID=America/Chicago:20250628T110000
DTEND;TZID=America/Chicago:20250628T130000
DTSTAMP:20260423T183137
CREATED:20250515T213053Z
LAST-MODIFIED:20250515T213053Z
UID:7112-1751108400-1751115600@www.twelveoakshoa.com
SUMMARY:Steele Pergola Party
DESCRIPTION:
URL:https://www.twelveoakshoa.com/event/steele-pergola-party/
LOCATION:Pergola Party\, Pool Side Pergola
END:VEVENT
BEGIN:VEVENT
DTSTART;TZID=America/Chicago:20250624T170000
DTEND;TZID=America/Chicago:20250624T220000
DTSTAMP:20260423T183137
CREATED:20250527T185531Z
LAST-MODIFIED:20250527T185531Z
UID:7137-1750784400-1750802400@www.twelveoakshoa.com
SUMMARY:Moton Clubhouse Reservation
DESCRIPTION:
URL:https://www.twelveoakshoa.com/event/moton-clubhouse-reservation/
LOCATION:Club House
END:VEVENT
BEGIN:VEVENT
DTSTART;TZID=America/Chicago:20250623T180000
DTEND;TZID=America/Chicago:20250623T203000
DTSTAMP:20260423T183137
CREATED:20250428T182242Z
LAST-MODIFIED:20250428T182242Z
UID:7097-1750701600-1750710600@www.twelveoakshoa.com
SUMMARY:Rickert Pool reservation
DESCRIPTION:
URL:https://www.twelveoakshoa.com/event/rickert-pool-reservation-2/
LOCATION:Clubhouse & Pool
END:VEVENT
BEGIN:VEVENT
DTSTART;TZID=America/Chicago:20250621T110000
DTEND;TZID=America/Chicago:20250621T130000
DTSTAMP:20260423T183137
CREATED:20250520T195746Z
LAST-MODIFIED:20250520T195746Z
UID:7127-1750503600-1750510800@www.twelveoakshoa.com
SUMMARY:Edwards Clubhouse Reservation
DESCRIPTION:
URL:https://www.twelveoakshoa.com/event/edwards-clubhouse-reservation/
LOCATION:Club House
END:VEVENT
BEGIN:VEVENT
DTSTART;TZID=America/Chicago:20250617T170000
DTEND;TZID=America/Chicago:20250617T193000
DTSTAMP:20260423T183137
CREATED:20250602T160503Z
LAST-MODIFIED:20250602T160503Z
UID:7148-1750179600-1750188600@www.twelveoakshoa.com
SUMMARY:Berlin Pergola Party
DESCRIPTION:
URL:https://www.twelveoakshoa.com/event/berlin-pergola-party/
LOCATION:Pergola Party\, Pool Side Pergola
END:VEVENT
BEGIN:VEVENT
DTSTART;TZID=America/Chicago:20250616T170000
DTEND;TZID=America/Chicago:20250616T210000
DTSTAMP:20260423T183137
CREATED:20250505T192048Z
LAST-MODIFIED:20250505T192048Z
UID:7103-1750093200-1750107600@www.twelveoakshoa.com
SUMMARY:Sanders Clubhouse and Pool reserrvation
DESCRIPTION:
URL:https://www.twelveoakshoa.com/event/sanders-clubhouse-and-pool-reserrvation/
LOCATION:Clubhouse & Pool
END:VEVENT
BEGIN:VEVENT
DTSTART;TZID=America/Chicago:20250615T110000
DTEND;TZID=America/Chicago:20250615T130000
DTSTAMP:20260423T183137
CREATED:20250505T191730Z
LAST-MODIFIED:20250505T191730Z
UID:7101-1749985200-1749992400@www.twelveoakshoa.com
SUMMARY:Chandler Clubhouse Reservation
DESCRIPTION:
URL:https://www.twelveoakshoa.com/event/chandler-clubhouse-reservation-2/
LOCATION:Club House
END:VEVENT
BEGIN:VEVENT
DTSTART;TZID=America/Chicago:20250614T130000
DTEND;TZID=America/Chicago:20250614T150000
DTSTAMP:20260423T183137
CREATED:20250520T195427Z
LAST-MODIFIED:20250520T195427Z
UID:7123-1749906000-1749913200@www.twelveoakshoa.com
SUMMARY:Crnkovic Clubhouse Reservation
DESCRIPTION:
URL:https://www.twelveoakshoa.com/event/crnkovic-clubhouse-reservation/
LOCATION:Club House
END:VEVENT
BEGIN:VEVENT
DTSTART;TZID=America/Chicago:20250613T170000
DTEND;TZID=America/Chicago:20250613T190000
DTSTAMP:20260423T183137
CREATED:20250602T155942Z
LAST-MODIFIED:20250602T155942Z
UID:7143-1749834000-1749841200@www.twelveoakshoa.com
SUMMARY:Barcelona Pergola Party
DESCRIPTION:
URL:https://www.twelveoakshoa.com/event/barcelona-pergola-party/
LOCATION:Pergola Party\, Pool Side Pergola
END:VEVENT
BEGIN:VEVENT
DTSTART;TZID=America/Chicago:20250612T180000
DTEND;TZID=America/Chicago:20250612T200000
DTSTAMP:20260423T183137
CREATED:20250127T163610Z
LAST-MODIFIED:20250127T163610Z
UID:7011-1749751200-1749758400@www.twelveoakshoa.com
SUMMARY:12 Oaks Mahjong
DESCRIPTION:
URL:https://www.twelveoakshoa.com/event/12-oaks-mahjong-13/
LOCATION:Club House
END:VEVENT
BEGIN:VEVENT
DTSTART;VALUE=DATE:20250609
DTEND;VALUE=DATE:20250611
DTSTAMP:20260423T183137
CREATED:20250602T160257Z
LAST-MODIFIED:20250602T160257Z
UID:7146-1749427200-1749599999@www.twelveoakshoa.com
SUMMARY:POOL MAINTENANCE NO PARTIES AVAILABLE
DESCRIPTION:
URL:https://www.twelveoakshoa.com/event/pool-maintenance-no-parties-available/
LOCATION:Clubhouse & Pool
END:VEVENT
BEGIN:VEVENT
DTSTART;TZID=America/Chicago:20250607T160000
DTEND;TZID=America/Chicago:20250607T180000
DTSTAMP:20260423T183137
CREATED:20250527T184749Z
LAST-MODIFIED:20250527T184749Z
UID:7135-1749312000-1749319200@www.twelveoakshoa.com
SUMMARY:Nabors Pergola Reservation
DESCRIPTION:
URL:https://www.twelveoakshoa.com/event/nabors-pergola-reservation/
LOCATION:Pergola Party\, Pool Side Pergola
END:VEVENT
BEGIN:VEVENT
DTSTART;TZID=America/Chicago:20250531T170000
DTEND;TZID=America/Chicago:20250531T190000
DTSTAMP:20260423T183137
CREATED:20250319T170515Z
LAST-MODIFIED:20250319T170515Z
UID:7063-1748710800-1748718000@www.twelveoakshoa.com
SUMMARY:Mirza Pergola Party
DESCRIPTION:
URL:https://www.twelveoakshoa.com/event/mirza-pergola-party/
LOCATION:Pergola Party\, Pool Side Pergola
END:VEVENT
BEGIN:VEVENT
DTSTART;TZID=America/Chicago:20250531T130000
DTEND;TZID=America/Chicago:20250531T150000
DTSTAMP:20260423T183137
CREATED:20250515T212918Z
LAST-MODIFIED:20250515T212918Z
UID:7110-1748696400-1748703600@www.twelveoakshoa.com
SUMMARY:Boulais
DESCRIPTION:
URL:https://www.twelveoakshoa.com/event/boulais/
LOCATION:Club House
END:VEVENT
BEGIN:VEVENT
DTSTART;TZID=America/Chicago:20250531T110000
DTEND;TZID=America/Chicago:20250531T130000
DTSTAMP:20260423T183137
CREATED:20250520T195656Z
LAST-MODIFIED:20250520T195656Z
UID:7125-1748689200-1748696400@www.twelveoakshoa.com
SUMMARY:Love Pergola Reservation
DESCRIPTION:
URL:https://www.twelveoakshoa.com/event/love-pergola-reservation/
LOCATION:Pergola Party\, Pool Side Pergola
END:VEVENT
BEGIN:VEVENT
DTSTART;VALUE=DATE:20250530
DTEND;VALUE=DATE:20250602
DTSTAMP:20260423T183137
CREATED:20250319T170708Z
LAST-MODIFIED:20250319T170708Z
UID:7065-1748563200-1748822399@www.twelveoakshoa.com
SUMMARY:Clubhouse Unavailable For Rental
DESCRIPTION:
URL:https://www.twelveoakshoa.com/event/clubhouse-unavailable-for-rental/
LOCATION:Club House
END:VEVENT
BEGIN:VEVENT
DTSTART;TZID=America/Chicago:20250527T080000
DTEND;TZID=America/Chicago:20250527T170000
DTSTAMP:20260423T183137
CREATED:20250522T191354Z
LAST-MODIFIED:20250522T191354Z
UID:7132-1748332800-1748365200@www.twelveoakshoa.com
SUMMARY:Keller Pool Reservation
DESCRIPTION:
URL:https://www.twelveoakshoa.com/event/keller-pool-reservation-2/
LOCATION:Clubhouse & Pool
END:VEVENT
BEGIN:VEVENT
DTSTART;TZID=America/Chicago:20250521T110000
DTEND;TZID=America/Chicago:20250521T140000
DTSTAMP:20260423T183137
CREATED:20250424T193632Z
LAST-MODIFIED:20250424T193632Z
UID:7092-1747825200-1747836000@www.twelveoakshoa.com
SUMMARY:Leckie Clubhouse & Pool reservation
DESCRIPTION:
URL:https://www.twelveoakshoa.com/event/leckie-clubhouse-pool-reservation/
LOCATION:Clubhouse & Pool
END:VEVENT
BEGIN:VEVENT
DTSTART;TZID=America/Chicago:20250520T180000
DTEND;TZID=America/Chicago:20250520T220000
DTSTAMP:20260423T183138
CREATED:20250520T195931Z
LAST-MODIFIED:20250520T195931Z
UID:7129-1747764000-1747778400@www.twelveoakshoa.com
SUMMARY:Mainiero Clubhouse and Pool
DESCRIPTION:
URL:https://www.twelveoakshoa.com/event/mainiero-clubhouse-and-pool/
LOCATION:Clubhouse & Pool
END:VEVENT
BEGIN:VEVENT
DTSTART;TZID=America/Chicago:20250519T170000
DTEND;TZID=America/Chicago:20250519T200000
DTSTAMP:20260423T183138
CREATED:20250424T193749Z
LAST-MODIFIED:20250424T193749Z
UID:7094-1747674000-1747684800@www.twelveoakshoa.com
SUMMARY:Palmer Clubhouse Reservation
DESCRIPTION:
URL:https://www.twelveoakshoa.com/event/palmer-clubhouse-reservation/
LOCATION:Club House
END:VEVENT
BEGIN:VEVENT
DTSTART;TZID=America/Chicago:20250518T140000
DTEND;TZID=America/Chicago:20250518T170000
DTSTAMP:20260423T183138
CREATED:20250409T162241Z
LAST-MODIFIED:20250409T162241Z
UID:7081-1747576800-1747587600@www.twelveoakshoa.com
SUMMARY:Pope Clubhouse Reservation
DESCRIPTION:
URL:https://www.twelveoakshoa.com/event/pope-clubhouse-reservation-3/
LOCATION:Club House
END:VEVENT
BEGIN:VEVENT
DTSTART;TZID=America/Chicago:20250517T170000
DTEND;TZID=America/Chicago:20250517T200000
DTSTAMP:20260423T183138
CREATED:20250416T125855Z
LAST-MODIFIED:20250416T125855Z
UID:7086-1747501200-1747512000@www.twelveoakshoa.com
SUMMARY:Smith Clubhouse
DESCRIPTION:
URL:https://www.twelveoakshoa.com/event/smith-clubhouse/
LOCATION:Club House
END:VEVENT
BEGIN:VEVENT
DTSTART;TZID=America/Chicago:20250517T100000
DTEND;TZID=America/Chicago:20250517T130000
DTSTAMP:20260423T183138
CREATED:20250201T172455Z
LAST-MODIFIED:20250201T172455Z
UID:7028-1747476000-1747486800@www.twelveoakshoa.com
SUMMARY:McCollum / Gatschenberger Clubhouse Reservation
DESCRIPTION:
URL:https://www.twelveoakshoa.com/event/mccollum-gatschenberger-clubhouse-reservation/
LOCATION:Club House
END:VEVENT
BEGIN:VEVENT
DTSTART;TZID=America/Chicago:20250514T183000
DTEND;TZID=America/Chicago:20250514T213000
DTSTAMP:20260423T183138
CREATED:20250127T163041Z
LAST-MODIFIED:20250127T163041Z
UID:7001-1747247400-1747258200@www.twelveoakshoa.com
SUMMARY:Cook Clubhouse Reservation
DESCRIPTION:
URL:https://www.twelveoakshoa.com/event/cook-clubhouse-reservation/
LOCATION:Club House
END:VEVENT
BEGIN:VEVENT
DTSTART;TZID=America/Chicago:20250510T140000
DTEND;TZID=America/Chicago:20250510T160000
DTSTAMP:20260423T183138
CREATED:20250409T162331Z
LAST-MODIFIED:20250409T162331Z
UID:7083-1746885600-1746892800@www.twelveoakshoa.com
SUMMARY:McCarthy Clubhouse Reservation
DESCRIPTION:
URL:https://www.twelveoakshoa.com/event/mccarthy-clubhouse-reservation/
LOCATION:Club House
END:VEVENT
END:VCALENDAR