BEGIN:VCALENDAR
VERSION:2.0
PRODID:-//Twelve Oaks - ECPv6.15.13//NONSGML v1.0//EN
CALSCALE:GREGORIAN
METHOD:PUBLISH
X-ORIGINAL-URL:https://www.twelveoakshoa.com
X-WR-CALDESC:Events for Twelve Oaks
REFRESH-INTERVAL;VALUE=DURATION:PT1H
X-Robots-Tag:noindex
X-PUBLISHED-TTL:PT1H
BEGIN:VTIMEZONE
TZID:America/Chicago
BEGIN:DAYLIGHT
TZOFFSETFROM:-0600
TZOFFSETTO:-0500
TZNAME:CDT
DTSTART:20240310T080000
END:DAYLIGHT
BEGIN:STANDARD
TZOFFSETFROM:-0500
TZOFFSETTO:-0600
TZNAME:CST
DTSTART:20241103T070000
END:STANDARD
BEGIN:DAYLIGHT
TZOFFSETFROM:-0600
TZOFFSETTO:-0500
TZNAME:CDT
DTSTART:20250309T080000
END:DAYLIGHT
BEGIN:STANDARD
TZOFFSETFROM:-0500
TZOFFSETTO:-0600
TZNAME:CST
DTSTART:20251102T070000
END:STANDARD
BEGIN:DAYLIGHT
TZOFFSETFROM:-0600
TZOFFSETTO:-0500
TZNAME:CDT
DTSTART:20260308T080000
END:DAYLIGHT
BEGIN:STANDARD
TZOFFSETFROM:-0500
TZOFFSETTO:-0600
TZNAME:CST
DTSTART:20261101T070000
END:STANDARD
END:VTIMEZONE
BEGIN:VEVENT
DTSTART;VALUE=DATE:20250704
DTEND;VALUE=DATE:20250707
DTSTAMP:20260423T205914
CREATED:20250319T170750Z
LAST-MODIFIED:20250319T170750Z
UID:7067-1751587200-1751846399@www.twelveoakshoa.com
SUMMARY:Clubhouse Unavailable For Rental
DESCRIPTION:
URL:https://www.twelveoakshoa.com/event/clubhouse-unavailable-for-rental-2/
LOCATION:Club House
END:VEVENT
BEGIN:VEVENT
DTSTART;TZID=America/Chicago:20250707T140000
DTEND;TZID=America/Chicago:20250707T170000
DTSTAMP:20260423T205914
CREATED:20250520T191010Z
LAST-MODIFIED:20250520T191010Z
UID:7118-1751896800-1751907600@www.twelveoakshoa.com
SUMMARY:Pool Reservation  Ella
DESCRIPTION:
URL:https://www.twelveoakshoa.com/event/pool-reservation-ella/
END:VEVENT
BEGIN:VEVENT
DTSTART;TZID=America/Chicago:20250710T180000
DTEND;TZID=America/Chicago:20250710T200000
DTSTAMP:20260423T205914
CREATED:20250127T163703Z
LAST-MODIFIED:20250127T163703Z
UID:7013-1752170400-1752177600@www.twelveoakshoa.com
SUMMARY:12 Oaks Mahjong
DESCRIPTION:
URL:https://www.twelveoakshoa.com/event/12-oaks-mahjong-14/
LOCATION:Club House
END:VEVENT
BEGIN:VEVENT
DTSTART;TZID=America/Chicago:20250720T160000
DTEND;TZID=America/Chicago:20250720T180000
DTSTAMP:20260423T205914
CREATED:20250718T161946Z
LAST-MODIFIED:20250718T161946Z
UID:7169-1753027200-1753034400@www.twelveoakshoa.com
SUMMARY:Karam Pergola Party
DESCRIPTION:
URL:https://www.twelveoakshoa.com/event/karam-pergola-party/
LOCATION:Pergola Party\, Pool Side Pergola
END:VEVENT
BEGIN:VEVENT
DTSTART;TZID=America/Chicago:20250723T140000
DTEND;TZID=America/Chicago:20250723T160000
DTSTAMP:20260423T205914
CREATED:20250722T231718Z
LAST-MODIFIED:20250722T231718Z
UID:7174-1753279200-1753286400@www.twelveoakshoa.com
SUMMARY:Wheeler Clubhouse and pool
DESCRIPTION:
URL:https://www.twelveoakshoa.com/event/wheeler-clubhouse-and-pool/
LOCATION:Clubhouse & Pool
END:VEVENT
BEGIN:VEVENT
DTSTART;TZID=America/Chicago:20250727T140000
DTEND;TZID=America/Chicago:20250727T170000
DTSTAMP:20260423T205914
CREATED:20250212T203057Z
LAST-MODIFIED:20250219T174942Z
UID:7039-1753624800-1753635600@www.twelveoakshoa.com
SUMMARY:Johnson Clubhouse and pool
DESCRIPTION:
URL:https://www.twelveoakshoa.com/event/johnson-clubhouse-and-pool/
LOCATION:Clubhouse & Pool
END:VEVENT
END:VCALENDAR