BEGIN:VCALENDAR
VERSION:2.0
PRODID:-//Twelve Oaks - ECPv6.15.13//NONSGML v1.0//EN
CALSCALE:GREGORIAN
METHOD:PUBLISH
X-WR-CALNAME:Twelve Oaks
X-ORIGINAL-URL:https://www.twelveoakshoa.com
X-WR-CALDESC:Events for Twelve Oaks
REFRESH-INTERVAL;VALUE=DURATION:PT1H
X-Robots-Tag:noindex
X-PUBLISHED-TTL:PT1H
BEGIN:VTIMEZONE
TZID:America/Chicago
BEGIN:DAYLIGHT
TZOFFSETFROM:-0600
TZOFFSETTO:-0500
TZNAME:CDT
DTSTART:20240310T080000
END:DAYLIGHT
BEGIN:STANDARD
TZOFFSETFROM:-0500
TZOFFSETTO:-0600
TZNAME:CST
DTSTART:20241103T070000
END:STANDARD
BEGIN:DAYLIGHT
TZOFFSETFROM:-0600
TZOFFSETTO:-0500
TZNAME:CDT
DTSTART:20250309T080000
END:DAYLIGHT
BEGIN:STANDARD
TZOFFSETFROM:-0500
TZOFFSETTO:-0600
TZNAME:CST
DTSTART:20251102T070000
END:STANDARD
BEGIN:DAYLIGHT
TZOFFSETFROM:-0600
TZOFFSETTO:-0500
TZNAME:CDT
DTSTART:20260308T080000
END:DAYLIGHT
BEGIN:STANDARD
TZOFFSETFROM:-0500
TZOFFSETTO:-0600
TZNAME:CST
DTSTART:20261101T070000
END:STANDARD
END:VTIMEZONE
BEGIN:VEVENT
DTSTART;TZID=America/Chicago:20251004T130000
DTEND;TZID=America/Chicago:20251004T170000
DTSTAMP:20260423T163113
CREATED:20250902T185257Z
LAST-MODIFIED:20250902T185257Z
UID:7212-1759582800-1759597200@www.twelveoakshoa.com
SUMMARY:Hutchinson Clubhouse
DESCRIPTION:
URL:https://www.twelveoakshoa.com/event/hutchinson-clubhouse/
LOCATION:Club House
END:VEVENT
BEGIN:VEVENT
DTSTART;TZID=America/Chicago:20251017T180000
DTEND;TZID=America/Chicago:20251017T200000
DTSTAMP:20260423T163113
CREATED:20250822T150128Z
LAST-MODIFIED:20250829T164846Z
UID:7200-1760724000-1760731200@www.twelveoakshoa.com
SUMMARY:Alison "CC" Mayfield Clubhouse Reservation
DESCRIPTION:
URL:https://www.twelveoakshoa.com/event/sepulvado-pergola-party/
LOCATION:Club House
END:VEVENT
BEGIN:VEVENT
DTSTART;TZID=America/Chicago:20251022T110000
DTEND;TZID=America/Chicago:20251022T130000
DTSTAMP:20260423T163113
CREATED:20251017T140322Z
LAST-MODIFIED:20251017T140322Z
UID:7227-1761130800-1761138000@www.twelveoakshoa.com
SUMMARY:Bonillas -SPD
DESCRIPTION:
URL:https://www.twelveoakshoa.com/event/bonillas-spd/
LOCATION:Club House
END:VEVENT
BEGIN:VEVENT
DTSTART;TZID=America/Chicago:20251023T180000
DTEND;TZID=America/Chicago:20251023T200000
DTSTAMP:20260423T163113
CREATED:20251017T140621Z
LAST-MODIFIED:20251017T140621Z
UID:7231-1761242400-1761249600@www.twelveoakshoa.com
SUMMARY:Jenkins Clubhouse Reservation
DESCRIPTION:
URL:https://www.twelveoakshoa.com/event/jenkins-clubhouse-reservation/
LOCATION:Club House
END:VEVENT
BEGIN:VEVENT
DTSTART;TZID=America/Chicago:20251026T120000
DTEND;TZID=America/Chicago:20251026T150000
DTSTAMP:20260423T163113
CREATED:20250822T150027Z
LAST-MODIFIED:20250822T150027Z
UID:7198-1761480000-1761490800@www.twelveoakshoa.com
SUMMARY:Wheeler Clubhouse Reservation
DESCRIPTION:
URL:https://www.twelveoakshoa.com/event/wheeler-clubhouse-reservation/
LOCATION:Club House
END:VEVENT
BEGIN:VEVENT
DTSTART;TZID=America/Chicago:20251027T183000
DTEND;TZID=America/Chicago:20251027T193000
DTSTAMP:20260423T163113
CREATED:20251017T140405Z
LAST-MODIFIED:20251017T140405Z
UID:7229-1761589800-1761593400@www.twelveoakshoa.com
SUMMARY:HOA Board meeting
DESCRIPTION:
URL:https://www.twelveoakshoa.com/event/hoa-board-meeting/
LOCATION:Club House
END:VEVENT
BEGIN:VEVENT
DTSTART;VALUE=DATE:20251031
DTEND;VALUE=DATE:20251101
DTSTAMP:20260423T163113
CREATED:20250319T171048Z
LAST-MODIFIED:20250319T171048Z
UID:7071-1761868800-1761955199@www.twelveoakshoa.com
SUMMARY:Clubhouse Unavailable For Rental
DESCRIPTION:
URL:https://www.twelveoakshoa.com/event/clubhouse-unavailable-for-rental-4/
LOCATION:Club House
END:VEVENT
END:VCALENDAR