BEGIN:VCALENDAR
VERSION:2.0
PRODID:-//Twelve Oaks - ECPv6.15.13//NONSGML v1.0//EN
CALSCALE:GREGORIAN
METHOD:PUBLISH
X-WR-CALNAME:Twelve Oaks
X-ORIGINAL-URL:https://www.twelveoakshoa.com
X-WR-CALDESC:Events for Twelve Oaks
REFRESH-INTERVAL;VALUE=DURATION:PT1H
X-Robots-Tag:noindex
X-PUBLISHED-TTL:PT1H
BEGIN:VTIMEZONE
TZID:America/Chicago
BEGIN:DAYLIGHT
TZOFFSETFROM:-0600
TZOFFSETTO:-0500
TZNAME:CDT
DTSTART:20240310T080000
END:DAYLIGHT
BEGIN:STANDARD
TZOFFSETFROM:-0500
TZOFFSETTO:-0600
TZNAME:CST
DTSTART:20241103T070000
END:STANDARD
BEGIN:DAYLIGHT
TZOFFSETFROM:-0600
TZOFFSETTO:-0500
TZNAME:CDT
DTSTART:20250309T080000
END:DAYLIGHT
BEGIN:STANDARD
TZOFFSETFROM:-0500
TZOFFSETTO:-0600
TZNAME:CST
DTSTART:20251102T070000
END:STANDARD
BEGIN:DAYLIGHT
TZOFFSETFROM:-0600
TZOFFSETTO:-0500
TZNAME:CDT
DTSTART:20260308T080000
END:DAYLIGHT
BEGIN:STANDARD
TZOFFSETFROM:-0500
TZOFFSETTO:-0600
TZNAME:CST
DTSTART:20261101T070000
END:STANDARD
END:VTIMEZONE
BEGIN:VEVENT
DTSTART;TZID=America/Chicago:20251205T180000
DTEND;TZID=America/Chicago:20251205T220000
DTSTAMP:20260423T133756
CREATED:20251126T160514Z
LAST-MODIFIED:20251126T160514Z
UID:7262-1764957600-1764972000@www.twelveoakshoa.com
SUMMARY:Arboiro Clubhouse Resevration
DESCRIPTION:
URL:https://www.twelveoakshoa.com/event/arboiro-clubhouse-resevration/
END:VEVENT
BEGIN:VEVENT
DTSTART;TZID=America/Chicago:20251206T110000
DTEND;TZID=America/Chicago:20251206T150000
DTSTAMP:20260423T133756
CREATED:20251113T194111Z
LAST-MODIFIED:20251113T194111Z
UID:7238-1765018800-1765033200@www.twelveoakshoa.com
SUMMARY:McCarthy Clubhouse Reservation
DESCRIPTION:
URL:https://www.twelveoakshoa.com/event/mccarthy-clubhouse-reservation-2/
LOCATION:Club House
END:VEVENT
BEGIN:VEVENT
DTSTART;TZID=America/Chicago:20251206T170000
DTEND;TZID=America/Chicago:20251206T200000
DTSTAMP:20260423T133756
CREATED:20251008T214420Z
LAST-MODIFIED:20251028T172627Z
UID:7222-1765040400-1765051200@www.twelveoakshoa.com
SUMMARY:Nipster Clubhouse Reservation
DESCRIPTION:
URL:https://www.twelveoakshoa.com/event/nippster-clubhouse-reservation/
LOCATION:Club House
END:VEVENT
BEGIN:VEVENT
DTSTART;TZID=America/Chicago:20251210T180000
DTEND;TZID=America/Chicago:20251210T210000
DTSTAMP:20260423T133756
CREATED:20251126T160417Z
LAST-MODIFIED:20251126T160417Z
UID:7260-1765389600-1765400400@www.twelveoakshoa.com
SUMMARY:Moton Clubhouse Reservation
DESCRIPTION:
URL:https://www.twelveoakshoa.com/event/moton-clubhouse-reservation-2/
LOCATION:Club House
END:VEVENT
BEGIN:VEVENT
DTSTART;TZID=America/Chicago:20251212T150000
DTEND;TZID=America/Chicago:20251212T190000
DTSTAMP:20260423T133756
CREATED:20250917T152730Z
LAST-MODIFIED:20250917T152730Z
UID:7218-1765551600-1765566000@www.twelveoakshoa.com
SUMMARY:Nicholas Clubhouse Reservation
DESCRIPTION:
URL:https://www.twelveoakshoa.com/event/nicholas-clubhouse-reservation/
LOCATION:Club House
END:VEVENT
BEGIN:VEVENT
DTSTART;TZID=America/Chicago:20251213T180000
DTEND;TZID=America/Chicago:20251213T200000
DTSTAMP:20260423T133756
CREATED:20251210T175916Z
LAST-MODIFIED:20251210T175916Z
UID:7273-1765648800-1765656000@www.twelveoakshoa.com
SUMMARY:Gray Clubhouse Reservation
DESCRIPTION:
URL:https://www.twelveoakshoa.com/event/gray-clubhouse-reservation/
LOCATION:Club House
END:VEVENT
BEGIN:VEVENT
DTSTART;TZID=America/Chicago:20251214T170000
DTEND;TZID=America/Chicago:20251214T200000
DTSTAMP:20260423T133756
CREATED:20251126T160611Z
LAST-MODIFIED:20251203T170528Z
UID:7264-1765731600-1765742400@www.twelveoakshoa.com
SUMMARY:Dhawan Clubhouse Reservation
DESCRIPTION:
URL:https://www.twelveoakshoa.com/event/dhawan-clubhouse-reservation/
LOCATION:Club House
END:VEVENT
BEGIN:VEVENT
DTSTART;TZID=America/Chicago:20251224T150000
DTEND;TZID=America/Chicago:20251224T180000
DTSTAMP:20260423T133756
CREATED:20250902T185202Z
LAST-MODIFIED:20250902T185202Z
UID:7210-1766588400-1766599200@www.twelveoakshoa.com
SUMMARY:Massey Clubhouse
DESCRIPTION:
URL:https://www.twelveoakshoa.com/event/massey-clubhouse/
LOCATION:Club House
END:VEVENT
END:VCALENDAR