BEGIN:VCALENDAR
VERSION:2.0
PRODID:-//Twelve Oaks - ECPv6.15.13//NONSGML v1.0//EN
CALSCALE:GREGORIAN
METHOD:PUBLISH
X-ORIGINAL-URL:https://www.twelveoakshoa.com
X-WR-CALDESC:Events for Twelve Oaks
REFRESH-INTERVAL;VALUE=DURATION:PT1H
X-Robots-Tag:noindex
X-PUBLISHED-TTL:PT1H
BEGIN:VTIMEZONE
TZID:America/Chicago
BEGIN:DAYLIGHT
TZOFFSETFROM:-0600
TZOFFSETTO:-0500
TZNAME:CDT
DTSTART:20250309T080000
END:DAYLIGHT
BEGIN:STANDARD
TZOFFSETFROM:-0500
TZOFFSETTO:-0600
TZNAME:CST
DTSTART:20251102T070000
END:STANDARD
BEGIN:DAYLIGHT
TZOFFSETFROM:-0600
TZOFFSETTO:-0500
TZNAME:CDT
DTSTART:20260308T080000
END:DAYLIGHT
BEGIN:STANDARD
TZOFFSETFROM:-0500
TZOFFSETTO:-0600
TZNAME:CST
DTSTART:20261101T070000
END:STANDARD
BEGIN:DAYLIGHT
TZOFFSETFROM:-0600
TZOFFSETTO:-0500
TZNAME:CDT
DTSTART:20270314T080000
END:DAYLIGHT
BEGIN:STANDARD
TZOFFSETFROM:-0500
TZOFFSETTO:-0600
TZNAME:CST
DTSTART:20271107T070000
END:STANDARD
END:VTIMEZONE
BEGIN:VEVENT
DTSTART;TZID=America/Chicago:20260201T160000
DTEND;TZID=America/Chicago:20260201T180000
DTSTAMP:20260423T110251
CREATED:20260120T172323Z
LAST-MODIFIED:20260122T174203Z
UID:7299-1769961600-1769968800@www.twelveoakshoa.com
SUMMARY:Batra Clubhouse Reservation
DESCRIPTION:
URL:https://www.twelveoakshoa.com/event/batra-clubhouse-reservation/
LOCATION:Club House
END:VEVENT
BEGIN:VEVENT
DTSTART;TZID=America/Chicago:20260204T173000
DTEND;TZID=America/Chicago:20260204T193000
DTSTAMP:20260423T110251
CREATED:20260107T184859Z
LAST-MODIFIED:20260203T151314Z
UID:7282-1770226200-1770233400@www.twelveoakshoa.com
SUMMARY:Lady Gator Soccer
DESCRIPTION:
URL:https://www.twelveoakshoa.com/event/lady-gator-soccer/
END:VEVENT
BEGIN:VEVENT
DTSTART;TZID=America/Chicago:20260206T160000
DTEND;TZID=America/Chicago:20260206T170000
DTSTAMP:20260423T110251
CREATED:20260114T132123Z
LAST-MODIFIED:20260114T132123Z
UID:7290-1770393600-1770397200@www.twelveoakshoa.com
SUMMARY:Shepherd Clubhouse Rental
DESCRIPTION:
URL:https://www.twelveoakshoa.com/event/shepherd-clubhouse-rental/
END:VEVENT
BEGIN:VEVENT
DTSTART;TZID=America/Chicago:20260206T180000
DTEND;TZID=America/Chicago:20260206T210000
DTSTAMP:20260423T110251
CREATED:20260120T173224Z
LAST-MODIFIED:20260120T173224Z
UID:7301-1770400800-1770411600@www.twelveoakshoa.com
SUMMARY:Armstrong Clubhouse Reservation
DESCRIPTION:
URL:https://www.twelveoakshoa.com/event/armstrong-clubhouse-reservation/
LOCATION:Club House
END:VEVENT
END:VCALENDAR